BEGIN:VCALENDAR
VERSION:2.0
PRODID:-//チーム京丹波 - ECPv6.15.17//NONSGML v1.0//EN
CALSCALE:GREGORIAN
METHOD:PUBLISH
X-WR-CALNAME:チーム京丹波
X-ORIGINAL-URL:https://www.team-kyotamba.jp
X-WR-CALDESC:チーム京丹波 のイベント
REFRESH-INTERVAL;VALUE=DURATION:PT1H
X-Robots-Tag:noindex
X-PUBLISHED-TTL:PT1H
BEGIN:VTIMEZONE
TZID:Asia/Tokyo
BEGIN:STANDARD
TZOFFSETFROM:+0900
TZOFFSETTO:+0900
TZNAME:JST
DTSTART:20250101T000000
END:STANDARD
END:VTIMEZONE
BEGIN:VEVENT
DTSTART;TZID=Asia/Tokyo:20260426T110000
DTEND;TZID=Asia/Tokyo:20260426T150000
DTSTAMP:20260423T205058
CREATED:20260408T075728Z
LAST-MODIFIED:20260420T034058Z
UID:972-1777201200-1777215600@www.team-kyotamba.jp
SUMMARY:～京丹波町も満開🌸🌸🌸～
DESCRIPTION:新年度１回目「みんなとつながるワ－クショップ」\n４月２６日（日）です（●＾o＾●）アリ！\n   \n\nみんなとつながるワ－クショップ\n４月２６日（日）11:00～15:00\n道の駅丹波マーケス交流スペース\n来てね！
URL:https://www.team-kyotamba.jp/event/%ef%bd%9e%e4%ba%ac%e4%b8%b9%e6%b3%a2%e7%94%ba%e3%82%82%e6%ba%80%e9%96%8b%f0%9f%8c%b8%f0%9f%8c%b8%f0%9f%8c%b8%ef%bd%9e/
ATTACH;FMTTYPE=image/jpeg:https://www.team-kyotamba.jp/wp-content/uploads/2026/04/2026042601.jpg
END:VEVENT
END:VCALENDAR